BEGIN:VCALENDAR
VERSION:2.0
PRODID:-//Serious Play Pro - ECPv6.15.20//NONSGML v1.0//EN
CALSCALE:GREGORIAN
METHOD:PUBLISH
X-ORIGINAL-URL:https://seriousplaypro.com
X-WR-CALDESC:Events for Serious Play Pro
REFRESH-INTERVAL;VALUE=DURATION:PT1H
X-Robots-Tag:noindex
X-PUBLISHED-TTL:PT1H
BEGIN:VTIMEZONE
TZID:Europe/Tallinn
BEGIN:DAYLIGHT
TZOFFSETFROM:+0200
TZOFFSETTO:+0300
TZNAME:EEST
DTSTART:20190331T010000
END:DAYLIGHT
BEGIN:STANDARD
TZOFFSETFROM:+0300
TZOFFSETTO:+0200
TZNAME:EET
DTSTART:20191027T010000
END:STANDARD
BEGIN:DAYLIGHT
TZOFFSETFROM:+0200
TZOFFSETTO:+0300
TZNAME:EEST
DTSTART:20200329T010000
END:DAYLIGHT
BEGIN:STANDARD
TZOFFSETFROM:+0300
TZOFFSETTO:+0200
TZNAME:EET
DTSTART:20201025T010000
END:STANDARD
BEGIN:DAYLIGHT
TZOFFSETFROM:+0200
TZOFFSETTO:+0300
TZNAME:EEST
DTSTART:20210328T010000
END:DAYLIGHT
BEGIN:STANDARD
TZOFFSETFROM:+0300
TZOFFSETTO:+0200
TZNAME:EET
DTSTART:20211031T010000
END:STANDARD
END:VTIMEZONE
BEGIN:VEVENT
DTSTART;TZID=Europe/Tallinn:20201127T090000
DTEND;TZID=Europe/Tallinn:20201127T180000
DTSTAMP:20260422T145141
CREATED:20200909T093958Z
LAST-MODIFIED:20200909T093958Z
UID:15985-1606467600-1606500000@seriousplaypro.com
SUMMARY:Lego® Serious Play® BASIC Training - November 2020 (Deutsch)
DESCRIPTION:
URL:https://seriousplaypro.com/event/lego-serious-play-basic-training-november-2020-deutsch/
ATTACH;FMTTYPE=image/jpeg:https://seriousplaypro.com/wp-content/uploads/2020/08/Lego-serious-play-strategicplay-WEBkomprimiert-3-scaled.jpg
ORGANIZER;CN="Strategicplay%C2%AE":MAILTO:service@strategicplay.de
END:VEVENT
END:VCALENDAR