BEGIN:VCALENDAR
VERSION:2.0
PRODID:-//Serious Play Pro - ECPv6.15.20//NONSGML v1.0//EN
CALSCALE:GREGORIAN
METHOD:PUBLISH
X-ORIGINAL-URL:https://seriousplaypro.com
X-WR-CALDESC:Events for Serious Play Pro
REFRESH-INTERVAL;VALUE=DURATION:PT1H
X-Robots-Tag:noindex
X-PUBLISHED-TTL:PT1H
BEGIN:VTIMEZONE
TZID:Europe/Tallinn
BEGIN:DAYLIGHT
TZOFFSETFROM:+0200
TZOFFSETTO:+0300
TZNAME:EEST
DTSTART:20190331T010000
END:DAYLIGHT
BEGIN:STANDARD
TZOFFSETFROM:+0300
TZOFFSETTO:+0200
TZNAME:EET
DTSTART:20191027T010000
END:STANDARD
BEGIN:DAYLIGHT
TZOFFSETFROM:+0200
TZOFFSETTO:+0300
TZNAME:EEST
DTSTART:20200329T010000
END:DAYLIGHT
BEGIN:STANDARD
TZOFFSETFROM:+0300
TZOFFSETTO:+0200
TZNAME:EET
DTSTART:20201025T010000
END:STANDARD
BEGIN:DAYLIGHT
TZOFFSETFROM:+0200
TZOFFSETTO:+0300
TZNAME:EEST
DTSTART:20210328T010000
END:DAYLIGHT
BEGIN:STANDARD
TZOFFSETFROM:+0300
TZOFFSETTO:+0200
TZNAME:EET
DTSTART:20211031T010000
END:STANDARD
END:VTIMEZONE
BEGIN:VEVENT
DTSTART;TZID=Europe/Tallinn:20201002T090000
DTEND;TZID=Europe/Tallinn:20201002T180000
DTSTAMP:20260423T004814
CREATED:20200821T115427Z
LAST-MODIFIED:20200909T094257Z
UID:15848-1601629200-1601661600@seriousplaypro.com
SUMMARY:Lego® Serious Play® BASIC Training – Oktober 2020 (Deutsch)
DESCRIPTION:Lego Serious Play ist ein co-kreativer Strategieentwicklungsprozess\, mit dem Teams Visionen und Geschäftsmodelle prototypen. \nWir sind StrategicPlay®\, als erster Lead Partner in Deutschland trainieren wir Lego® Serious Play® nach dem offiziellen Curriculum.\nWas ist Lego® Serious Play®\nLego Serious Play ist ein Gruppenprozess für die Entwicklung von Strategien und Lösungen. Teams stellen dabei ihre Ideen\, Denkmodelle und Visionen zu einem komplexen Vorhaben mit Hilfe von Legomodellen dar. Sie testen diese neuen Lösungen gegenüber einer ungewissen Zukunft\, um sie robust zu gestalten und die Umsetzung auf Basis gemeinsamer Prinzipien sicherzustellen. \nZusammengefasst\, ist Lego Serious Play also ein co-kreativer Strategieentwicklungsprozess\, mit dem Teams Visionen und Geschäftsmodelle prototypen. \nLego Serious Play Basic ist unschlagbar\, um: \n\ngemeinsame Visionen\, Werte und Prinzipien entwickeln\nKomplexität sichtbar zu machen und zu begreifen\neine neue\, klare und gemeinsame Vorstellung der Zukunft des Produktes\, der Marke\, oder des Unternehmens zu zeichnen\nTeams oder Bereiche im Unternehmen neu zu positionieren\neine gemeinsame Sprache und eine gemeinsame Identität zu erarbeiten\nTeamarbeit wirkungsvoll zu verbessern\nwirkungsvolle Lösungen zu finden\, Umsetzungen beschleunigen und den Erfolg nachhaltig zu sichern\n\nLego® Serious Play® liegt das neueste Wissen um Systemdenken\, Hirnforschung\, Strategie- und Spielentwicklung zugrunde. \n \nLego Serious Play Ausbildung in Hamburg: Werden Sie mit unserem Training zum Lego® Serious Play® Facilitator\nDas Training vermittelt Ihnen die notwendigen Grundlagen und Methoden\, um eigene Workshops – basierend auf der Lego® Serious Play® Methode – zu entwickeln und zu moderieren. Nutzen Sie Lego® Serious Play® um Teams bei u.a. Teambuilding\, Retrospektiven\, Strategiedefinition oder Innovation zu unterstützen. \nWas die Teilnehmer erwartet? Ein intensiver Trainingstag:\nDas bedeutet für die Teilnehmer einen dynamischen Wechsel zwischen Theorie\, praktischer Umsetzung und Reflektion des Erarbeiteten. Unser Versprechen: Die Essenz ist so anschaulich und der Lernerfolg so groß\, dass jeder Teilnehmer hinterher einen eigenen kurzen 30minütigen oder auch einen bis zu 3stündigen Workshop auf Basis von LEGO® SERIOUS PLAY® entwerfen und moderieren kann. \nDas eintägige Training vermittelt Ihnen die notwendigen Grundschritte\, um eigene Workshops – basierend auf der LEGO® SERIOUS PLAY™ Methode – zu entwickeln und zu moderieren. Sie lernen\, wie ein Warm Up die Teilnehmer mit der Methode vertraut macht und wie diese dann individuell ihre Denkmodelle zu komplexen Problemstellungen prototypen und präsentieren. \nSollten Sie tiefer in die LEGO® SERIOUS PLAY® Methodik einsteigen und komplette Strategie- und Teamentwicklungsprozesse lernen wollen\, bieten wir weiterführend das 3tägige Training zum Certified LEGO® SERIOUS PLAY® Facilitator an. \nFür wen ist das Training?\nFür alle Interessierten und Experten mit Teamführungs- und Gruppenmoderationserfahrung\, die in einem Tag lernen wollen\, wie „rapid Prototyping“ von Denkmodellen mit LEGO funktioniert! \nUnsere Trainingsinhalte\n\nWarm Up Schritte\, um Teilnehmer auf die ungewohnte Arbeit mit LEGO vorzubereiten\nDenkmodelle mit LEGO®  visualisieren und aktiv gestalten\ndie Prinzipien der LEGO® SERIOUS PLAY® Methode\ndie 4 Grundschritte des LEGO® Serious Play™ Basisprozesses: Bauen\, Bedeutung geben\, Storytelling und Reflektion.\ndie wissenschaftlichen Hintergründe\, wie LEGO® SERIOUS PLAY® funktioniert\nden Unterschied zwischen LEGO® SERIOUS PLAY® Facilitation und „normaler“ Moderation\n\nSämtliche Prozesse und Prinzipien lernen Sie aus der Teilnehmerperspektive als auch aus der Sicht des Facilitators kennen! \nDarum können Sie nach einem intensiven Trainingstag: \n\nLEGO® SERIOUS PLAY® nutzen\, um Teams bei u.a. Teambuilding\, Retrospektiven\, Strategiedefinition oder Innovation zu unterstützen.\nAls Facilitator Workshops auf Basis von LEGO® SERIOUS PLAY® entwerfen und moderieren – vom kurzen 30minütigen bis hin zum 3stündigen Format!\n\n​ \n \nLego Serious Play Erfahrungen\n\n“Angenehme und aktivierende Lernatmosphäre\, der Rahmen und der Inhalt waren hervorragend.”\n“Das StrategicPlay® Training war ein ausgezeichnetes\, theoretisch fundiertes Hands-on Training\, dass mir die tatsächliche Anwendung leicht macht.”\n“Katrin Elster hat mir ein überraschend mächtiges Methodenset an die Hand gegeben\, um – auch mal spontan- Team-building und Strategieplanungsprozesse explirativ zu unterstützen!”\n“Sehr gutes Training\, nette Atmosphäre\, direkt umsetzbar\, kleine Gruppe war ein Vorteil.”\n“My biggest learning in several years! The process & training rocks!”\n“Necessary tool in everbody’s consulting tool kit. One of the best trainings I attended.”\n\nMehr Informationen entnehmen Sie bitte auch diesen (englischen) Teilnehmerberichten über das Training: \n\nBruce Scharlau\nOlaf Lewitz\n\n \nÜber StrategicPlay®\nStrategicPlay® startete 2006 mit Lego® Serious Play®. Wir wurden Lead Partner für Lego® Serious Play® der LEGO A/S und 2010 offizieller Trainingsanbieter für Lego® Serious Play®. \nDurch unsere aktive Mitarbeit im Advisory Board for Lego® Serious Play® stellen wir zusammen mit den anderen Lego® Serious Play® Master Trainern einen weltweit einheitlichen Ausbildungs- und Qualitätsstandard sicher. Mit den Jahren haben wir unsere Erfahrungen um die besten Praktiken\, Designs und Vorgehensweisen verdichtet. \nStrategicPlay® bietet weltweit Lego® Serious Play® Trainings. Und weil wir dort auf viele fitte Menschen treffen\, wollen wir unser Wissen und unsere Methoden weitergeben. Damit es mehr gute – weil produktive – Meetings gibt. Damit Aufgaben ihre Komplexität verlieren und sich Projektstaus auflösen. Damit Kreativität entsteht und Ideen wachsen können. Und damit Unternehmen erkennen\, dass Teams durch spielerische Methoden zu erstaunlich tragfähigen Lösungen finden können. \nIhre Trainerin\nIhre Trainerin Katrin Elster ist eine der fünf ursprünglich von LEGO® zugelassenen Master Trainer für die LEGO® SERIOUS PLAY™ Methode. Sie ist Gründerin von StrategicPlay® und Spezialistin für Methoden der kreativen und spielerischen Problemlösung. 2007 von LEGO® ausgebildet zum LEGO® SERIOUS PLAY® Professional hat sie seitdem unterschiedlichste Workshops und Trainings unter Verwendung der Methode konzipiert und geleitet. Ebenso ist sie Master Trainer für Creative Problem Solving\, um Teams hinsichtlich ihres Stils zur Problemlösung einzuschätzen und zu optimieren und effektiv komplexe Herausforderungen anzugehen. \nStrategicPlay® is official Training Provider for LEGO® SERIOUS PLAY®. Find more information on StrategicPlay®.de\nFind us on social media: @strategicplay \nGet in touch with us! \nFirst NameEmail AddressMessageSend message
URL:https://seriousplaypro.com/event/lego-serious-play-basic-training-oktober-2020/
ATTACH;FMTTYPE=image/jpeg:https://seriousplaypro.com/wp-content/uploads/2020/08/Lego-serious-play-strategicplay-WEBkomprimiert-3-scaled.jpg
ORGANIZER;CN="Strategicplay%C2%AE":MAILTO:service@strategicplay.de
END:VEVENT
END:VCALENDAR