BEGIN:VCALENDAR
VERSION:2.0
PRODID:-//Serious Play Pro - ECPv6.15.20//NONSGML v1.0//EN
CALSCALE:GREGORIAN
METHOD:PUBLISH
X-WR-CALNAME:Serious Play Pro
X-ORIGINAL-URL:https://seriousplaypro.com
X-WR-CALDESC:Events for Serious Play Pro
REFRESH-INTERVAL;VALUE=DURATION:PT1H
X-Robots-Tag:noindex
X-PUBLISHED-TTL:PT1H
BEGIN:VTIMEZONE
TZID:Europe/Tallinn
BEGIN:DAYLIGHT
TZOFFSETFROM:+0200
TZOFFSETTO:+0300
TZNAME:EEST
DTSTART:20190331T010000
END:DAYLIGHT
BEGIN:STANDARD
TZOFFSETFROM:+0300
TZOFFSETTO:+0200
TZNAME:EET
DTSTART:20191027T010000
END:STANDARD
BEGIN:DAYLIGHT
TZOFFSETFROM:+0200
TZOFFSETTO:+0300
TZNAME:EEST
DTSTART:20200329T010000
END:DAYLIGHT
BEGIN:STANDARD
TZOFFSETFROM:+0300
TZOFFSETTO:+0200
TZNAME:EET
DTSTART:20201025T010000
END:STANDARD
BEGIN:DAYLIGHT
TZOFFSETFROM:+0200
TZOFFSETTO:+0300
TZNAME:EEST
DTSTART:20210328T010000
END:DAYLIGHT
BEGIN:STANDARD
TZOFFSETFROM:+0300
TZOFFSETTO:+0200
TZNAME:EET
DTSTART:20211031T010000
END:STANDARD
END:VTIMEZONE
BEGIN:VTIMEZONE
TZID:Europe/Stockholm
BEGIN:DAYLIGHT
TZOFFSETFROM:+0100
TZOFFSETTO:+0200
TZNAME:CEST
DTSTART:20190331T010000
END:DAYLIGHT
BEGIN:STANDARD
TZOFFSETFROM:+0200
TZOFFSETTO:+0100
TZNAME:CET
DTSTART:20191027T010000
END:STANDARD
BEGIN:DAYLIGHT
TZOFFSETFROM:+0100
TZOFFSETTO:+0200
TZNAME:CEST
DTSTART:20200329T010000
END:DAYLIGHT
BEGIN:STANDARD
TZOFFSETFROM:+0200
TZOFFSETTO:+0100
TZNAME:CET
DTSTART:20201025T010000
END:STANDARD
BEGIN:DAYLIGHT
TZOFFSETFROM:+0100
TZOFFSETTO:+0200
TZNAME:CEST
DTSTART:20210328T010000
END:DAYLIGHT
BEGIN:STANDARD
TZOFFSETFROM:+0200
TZOFFSETTO:+0100
TZNAME:CET
DTSTART:20211031T010000
END:STANDARD
END:VTIMEZONE
BEGIN:VEVENT
DTSTART;VALUE=DATE:20201130
DTEND;VALUE=DATE:20201204
DTSTAMP:20260423T201435
CREATED:20190808T112427Z
LAST-MODIFIED:20190808T113753Z
UID:13884-1606694400-1607039999@seriousplaypro.com
SUMMARY:ALL-INCLUSIVE Facilitator Training in the LEGO® SERIOUS PLAY® methodology at Hotel LEGOLAND® Billund (DK)
DESCRIPTION:Join the only facilitator training in the LEGO® SERIOUS PLAY® methodologythat is endorsed by one of the founding fathers of LEGO® SERIOUS PLAY®\n”The comprehensive course material and innovative pedagogy used in Inthrface’s facilitator training align with\, and positively extend the original LEGO® SERIOUS PLAY® concept.” \nProfessor Johan S. Roos \nCo-author of the Serious Play concept\, co-inventor of LEGO® SERIOUS PLAY®\, co-developer of the original LEGO® SERIOUS PLAY® manuals\, and co-founder of Imagination Lab Foundation. \nWhat’s included?:\n\nExtensive training and hands-on experience with the LEGO® SERIOUS PLAY® methodology\, brought to you by world class facilitators with experience from more than 1000 LEGO® SERIOUS PLAY® workshops.\nAn all-inclusive stay at LEGOLAND® Resort.\nA tour of the theme park LEGOLAND®.\nAn extensive and exclusive facilitator manual that covers both LEGO® SERIOUS PLAY® exercises and theory.\nAn invitation to join our annual international LEGO® SERIOUS PLAY® Conference and Advanced Training at Hotel LEGOLAND® in Billund.\nAccess to our worldwide network of certified facilitators.\nAn inspiring newsletter 6 times a year\, which covers different LEGO® SERIOUS PLAY® related initiatives and activities.\nA diploma and an exclusive testimonial by one of the founding fathers of LEGO® SERIOUS PLAY® that underline the quality of your training.\nAssistance in framing your first LEGO® SERIOUS PLAY® workshop after the training.\n\nAfter your training in the LEGO® SERIOUS PLAY® methodology you can: \n\nDevelop\, change and strengthen your organization and the teamwork within your company.\nOptimize processes and performances within your organization or company.\nDevelop and implement dynamic strategies in your organization or company.\nEngage in and facilitate personal development processes including coaching\, mentoring\, etc.\nAnd much more.\n\nTarget group:\nOur training is targeted towards people who work with management\, development\, facilitation\, processes and/or consulting. \nProgramme:\nOur facilitator training consists of four very intense\, diverse and creative days with focus on the theory and research behind the method\, effective hands-on exercises\, group work\, reflections and how you can use the method within the specific context of your work. \nThe training is composed of the following five sub-elements:\nDay 1 & 2:\n\nHistory\, theory and research in relation to the LEGO® SERIOUS PLAY® methodology.\nSkills Building: An introduction to all the basic elements of LEGO® SERIOUS PLAY®: Construction\, metaphors\, story making and fantasy/imagination.\nReal Time Strategy (RTS): You will learn how to use the LEGO® SERIOUS PLAY® methodology for strategy- and business development.\n\nDay 3 & 4:\n\nReal Time Identity (RTI): You will learn how to use LEGO® SERIOUS PLAY® for individual\, team and organizational development.\nHow to make tailormade workshops using the LEGO® SERIOUS PLAY® methodology.\nThe facilitator role and Introduction to the Trademark Guidelines concerning LEGO® SERIOUS PLAY®.\n\nFacilitators:\nAll facilitators at Inthrface have several years of leadership experience from both the public and the private sector. We have been engaged in the development of the LEGO® SERIOUS PLAY® tool from the very beginning and gained a vast amount of experience through more than 1000 LEGO® SERIOUS PLAY® workshops on a global level. We have\, furthermore\, trained hundreds of new facilitators in the use of the method during the last five years. \nOur experienced background enables us to help you become a great facilitator yourself. This means that by joining one of our facilitator trainings\, you will gain knowledge on how to create functional and engaging workshops that fit the specific context of your work\, and you will be able to use the method effectively right after the training. \nLanguage:\nThe training will be facilitated in English. \nDates:\nNovember 30th – December 3rd 2020. \nLocation:\nAt Hotel LEGOLAND® Billund\, DK. \nPrice:\nThe all-inclusive price for training\, accommodation at LEGOLAND® Resort and much more is:\nDKK: 22.875.- \nFor more information about the training please contact us by email or via the contact form below:\nCecilie Reinholt Petersen: crp@inthrface.com \n[contact-form][contact-field label=”Name” type=”name”  required=”true” /][contact-field label=”Email” type=”email” required=”true” /][contact-field label=”Website” type=”url” /][contact-field label=”Message” type=”textarea” /][/contact-form] \n 
URL:https://seriousplaypro.com/event/all-inclusive-facilitator-training-in-the-lego-serious-play-methodology-at-hotel-legoland-billund-dk-3/
LOCATION:Hotel LEGOLAND® Billund\, Åstvej 10\, Billund\, 7190\, Denmark
ATTACH;FMTTYPE=image/jpeg:https://seriousplaypro.com/wp-content/uploads/2019/08/Billund-training.jpg
ORGANIZER;CN="Inthrface ApS":MAILTO:cfp@inthrface.com
END:VEVENT
BEGIN:VEVENT
DTSTART;TZID=Europe/Stockholm:20201214T130000
DTEND;TZID=Europe/Stockholm:20201215T210000
DTSTAMP:20260423T201435
CREATED:20200706T125541Z
LAST-MODIFIED:20200706T125541Z
UID:15337-1607950800-1608066000@seriousplaypro.com
SUMMARY:ONLINE MICRO CERTIFICATION IN THE LEGO® SERIOUS PLAY® METHOD
DESCRIPTION:WHAT’S AN ONLINE FACILITATOR TRAINING IN LEGO® SERIOUS PLAY®?\nOur online facilitator training is designed for you to learn and master the LEGO® SERIOUS PLAY® Method\, so that you can run creative and impactful workshops both F2F and online for infinite purposes. \nRegardless of the subject matter\, you will experience a great deal of benefits from using the LEGO® SERIOUS PLAY® method: \n\nInclusion and recognition of all regardless of background\, experience or knowledge.\nModels and metaphors that participants remember.\nIncreased ability to work with complex topics.\nInsight into versatile perspectives that provide common knowledge and understanding.\nA new collective system of knowledge from which you can act in a coordinated manner.\n\n\nRead more about the training here!\n\nWHAT’S INCLUDED IN OUR THIS TRAINING?\n\nExtensive training and hands-on experience with the LEGO® SERIOUS PLAY® methodology brought to you by world class facilitators with experience from more than 1000 LEGO® SERIOUS PLAY® workshops.\nAn extensive and exclusive facilitator manual that covers both LEGO® SERIOUS PLAY® exercises and theory.\nAn invitation to join our annual international LEGO® SERIOUS PLAY® Conference and Advanced Training at Hotel LEGOLAND® in Billund.\nAccess to our worldwide network of certified facilitators.\nAn inspiring newsletter 6 times a year\, which covers different LEGO® SERIOUS PLAY® related initiatives and activities.\nA unique diploma\n\nWHAT CAN YOU DO AFTER COMPLETING YOUR TRAINING?\nYou will be able to facilitate shorter workshops both face-to-face and online for various purporses based on this online training. \nPRACTICALITIES:\nTarget group:\nOur training is targeted towards people who work with management\, development\, facilitation\, processes and/or consulting. \nDuration and time schedule:\n2 full days of training.\nA diploma will only be issued after the completion of both module/day 1 & 2. \nThe modules will run in the time period 13.00 – 21.00 CET. \nThe time frame may vary slightly to suit the various time zones of the participants. If you wishes to change the time zone slightly – to suit your schedule – please let us know\, and we will see what we can do. \nLanguage:\nThe training will be facilitated in English. \nMaterials:\nWe will send out all necessary materials and links prior to the training. \nThere might be limitations on the countries we can deliver materials to from Denmark\, but we will inform you when you apply. \nDiploma:\nA diploma will only be issued after the completion of both modules/days. \nInstructor:\nMicael Buckle from Inthrface\nMicael has worked with the LEGO® SERIOUS PLAY® methodology since 2003 and is certified by LEGO®. \nMicael has experience with more than 1000 workshops using the LEGO® SERIOUS PLAY® methodology globally. Workshops concerning strategy\, management\, team and organizational development. \n\nINFORMATION & CONTACT\nFor more information about the training please contact us via email:\nCecilie Reinholt Petersen: crp@inthrface.com \n\n\nPRICE\n2-day Online facilitator training in the LEGO® SERIOUS PLAY® method: \nDKK: 8.475\,00 (ex. VAT) \n(ex. 25% Danish VAT – only Danish residents). \n[contact-form][contact-field label=”Name” type=”name”  required=”true” /][contact-field label=”Email” type=”email” required=”true” /][contact-field label=”Website” type=”url” /][contact-field label=”Message” type=”textarea” /][/contact-form]
URL:https://seriousplaypro.com/event/online-micro-certification-in-the-lego-serious-play-method-7/
LOCATION:Online
ATTACH;FMTTYPE=image/jpeg:https://seriousplaypro.com/wp-content/uploads/2020/07/OMC-billede.jpg
ORGANIZER;CN="Inthrface ApS":MAILTO:cfp@inthrface.com
END:VEVENT
END:VCALENDAR