BEGIN:VCALENDAR
VERSION:2.0
PRODID:-//Serious Play Pro - ECPv6.15.20//NONSGML v1.0//EN
CALSCALE:GREGORIAN
METHOD:PUBLISH
X-ORIGINAL-URL:https://seriousplaypro.com
X-WR-CALDESC:Events for Serious Play Pro
REFRESH-INTERVAL;VALUE=DURATION:PT1H
X-Robots-Tag:noindex
X-PUBLISHED-TTL:PT1H
BEGIN:VTIMEZONE
TZID:Europe/Tallinn
BEGIN:DAYLIGHT
TZOFFSETFROM:+0200
TZOFFSETTO:+0300
TZNAME:EEST
DTSTART:20220327T010000
END:DAYLIGHT
BEGIN:STANDARD
TZOFFSETFROM:+0300
TZOFFSETTO:+0200
TZNAME:EET
DTSTART:20221030T010000
END:STANDARD
BEGIN:DAYLIGHT
TZOFFSETFROM:+0200
TZOFFSETTO:+0300
TZNAME:EEST
DTSTART:20230326T010000
END:DAYLIGHT
BEGIN:STANDARD
TZOFFSETFROM:+0300
TZOFFSETTO:+0200
TZNAME:EET
DTSTART:20231029T010000
END:STANDARD
BEGIN:DAYLIGHT
TZOFFSETFROM:+0200
TZOFFSETTO:+0300
TZNAME:EEST
DTSTART:20240331T010000
END:DAYLIGHT
BEGIN:STANDARD
TZOFFSETFROM:+0300
TZOFFSETTO:+0200
TZNAME:EET
DTSTART:20241027T010000
END:STANDARD
END:VTIMEZONE
BEGIN:VEVENT
DTSTART;TZID=Europe/Tallinn:20230328T090000
DTEND;TZID=Europe/Tallinn:20230329T173000
DTSTAMP:20260423T083559
CREATED:20230213T133602Z
LAST-MODIFIED:20230213T133631Z
UID:24511-1679994000-1680111000@seriousplaypro.com
SUMMARY:ONLINE CERTIFICATION IN THE LEGO® SERIOUS PLAY® METHOD FOR HIGHER EDUCATION
DESCRIPTION:ELEVATE YOUR TEACHING AND FACILITATION WITH CREATIVITY AND SERIOUS PLAY®\nWith our online facilitator training for higher education\, you will be able to design and facilitate short  or extensive workshops and classes\, both face-to-face and online\, using the LEGO® SERIOUS PLAY® (LSP) method.  \nLSP offers a multisensory means of investigating complex issues to which there is no single or straightforward answer! Regardless of the subject matter\, you will experience a lot of benefits from using the LSP method such as: \n\nInclusion and recognition of all participants regardless of background\,\nexperience\, or knowledge.\nModels and metaphors that participants remember.\nIncreased ability to work with complex topics.\nInsight into versatile perspectives that provide common knowledge and understanding.\nA new collective system of knowledge from which you can act in a coordinated manner.\n\n\nRead more about the certification here!\n\nWHAT’S INCLUDED IN THIS COURSE?\n\n2-days of extensive training and hands-on experience with the LSP methodology brought to you by world-class facilitators with experience from more than 1000 LSP workshops.\nAn extensive and exclusive facilitator manual that covers both LSP exercises and theory.\nAn invitation to join our annual international LSP Conference and Advanced Training at Hotel LEGOLAND® in Billund.\nAccess to our community BRICKMIND – a worldwide network of certified LSP facilitators.\nStructured inspiration and an exclusive newsletter four times a year\, which covers different LSP related initiatives and activities.\nA unique diploma and a badge.\n\n\nWHAT CAN YOU DO AFTER COMPLETING YOUR TRAINING?\nYou will be able to facilitate shorter workshops\, both face-to-face and online\, for various purposes such as: \n\nGetting your students more involved in classes\nProvide creative alternatives to standardized ways of teaching\nBe able to review how your educational institution operates and find imaginative\, resourceful\, and creative solutions\n\n\nPRACTICALITIES:\nTarget group:\nOur course is aimed at people who work in educational institutions\, irrespective of role\, seniority or experience. \nDuration and time schedule:\n2 full days of training. \nThe modules will run in the time period 09.00 – 17.30 CET. \nThe time frame may vary slightly to suit the various time zones of the participants. If you wish to change the time zone slightly – to suit your schedule – please let us know\, and we will see what we can do. \nLanguage:\nThe course will be facilitated in English. \nMaterials:\nInthrface will send out all necessary materials and links prior to the course. \nThere might be limitations on the countries we can deliver materials to from Denmark\, but we will inform you when you apply. \nDiploma:\nA diploma will only be issued after the completion of both modules/days. \nInstructors:\nMicael Buckle from Inthrface\nMicael Buckle is the CEO of Inthrface with headquarters near Copenhagen in Denmark. Micael has a long background in leadership and consulting. \nMicael has worked with the LSP methodology since 2003 and was in the first group certified by LEGO®. Since then\, Micael has worked as chief executive trainer & consultant\, and has experience from more than 1000 workshops using the LSP methodology and trained more than 500 new facilitators in the method globally. \nWhen time allows it\, Micael is also an adjunct professor at Hult & Ashridge International Business School. \nProfessor Alison James \nUntil December 2019\, Alison James was a Director of Academic Quality and Development at Winchester and Professor of Learning and Teaching. She left full-time institutional life to focus on funded research into play-based and playful approaches in HE in general\, and more specifically in the context of management education at university. \nAlison was certified as a facilitator in the LSP method in 2013. Since then\, she has used the methodology extensively within and outside HE to enable people to reflect on and explore matters important to them. Topics have included sustainability\, evaluation\, Erasmus partnerships\, team identity\, strategy & direction\, handling change\, overcoming stuckness\, threshold concepts\, relationships\, widening participation\, and countless others. She has worked with educators\, corporate executives\, conference teams\, students\, public audiences\, and many others to explore topics and questions in this way. \nYou can learn more about Professor Alison James and her work here: https://engagingimagination.com/. \n  \n\n\nINFORMATION & CONTACT\nFor more information about the training please contact us via email:\nCecilie Reinholt Petersen: crp@inthrface.com \n\n\nPRICE\n2-day Online facilitator training in the LEGO® SERIOUS PLAY® method for higher education: \nDKK 8.975\,00 (ex. VAT).\n(Approx. USD: 1265\,- / EUR: 1210\,- / GBP: 1045\,-). \n(excl. VAT )
URL:https://seriousplaypro.com/event/online-certification-in-the-lego-serious-play-method-for-higher-education/
LOCATION:VA
ORGANIZER;CN="IntHRface":MAILTO:contact@inthrface.com
END:VEVENT
END:VCALENDAR