BEGIN:VCALENDAR
VERSION:2.0
PRODID:-//Serious Play Pro - ECPv6.15.20//NONSGML v1.0//EN
CALSCALE:GREGORIAN
METHOD:PUBLISH
X-ORIGINAL-URL:https://seriousplaypro.com
X-WR-CALDESC:Events for Serious Play Pro
REFRESH-INTERVAL;VALUE=DURATION:PT1H
X-Robots-Tag:noindex
X-PUBLISHED-TTL:PT1H
BEGIN:VTIMEZONE
TZID:Europe/Tallinn
BEGIN:DAYLIGHT
TZOFFSETFROM:+0200
TZOFFSETTO:+0300
TZNAME:EEST
DTSTART:20200329T010000
END:DAYLIGHT
BEGIN:STANDARD
TZOFFSETFROM:+0300
TZOFFSETTO:+0200
TZNAME:EET
DTSTART:20201025T010000
END:STANDARD
BEGIN:DAYLIGHT
TZOFFSETFROM:+0200
TZOFFSETTO:+0300
TZNAME:EEST
DTSTART:20210328T010000
END:DAYLIGHT
BEGIN:STANDARD
TZOFFSETFROM:+0300
TZOFFSETTO:+0200
TZNAME:EET
DTSTART:20211031T010000
END:STANDARD
BEGIN:DAYLIGHT
TZOFFSETFROM:+0200
TZOFFSETTO:+0300
TZNAME:EEST
DTSTART:20220327T010000
END:DAYLIGHT
BEGIN:STANDARD
TZOFFSETFROM:+0300
TZOFFSETTO:+0200
TZNAME:EET
DTSTART:20221030T010000
END:STANDARD
END:VTIMEZONE
BEGIN:VEVENT
DTSTART;TZID=Europe/Tallinn:20210215T090000
DTEND;TZID=Europe/Tallinn:20210215T140000
DTSTAMP:20260422T145635
CREATED:20210125T113317Z
LAST-MODIFIED:20210127T113801Z
UID:16512-1613379600-1613397600@seriousplaypro.com
SUMMARY:LEGO® Serious Play® Online Training – Februar 2021 (Deutsch)
DESCRIPTION:
URL:https://seriousplaypro.com/event/lego-serious-play-online-training-februar-2021-deutsch/
LOCATION:Online
ATTACH;FMTTYPE=image/jpeg:https://seriousplaypro.com/wp-content/uploads/2020/08/Lego-serious-play-strategicplay-WEBkomprimiert-3-scaled.jpg
ORGANIZER;CN="Strategicplay%C2%AE":MAILTO:service@strategicplay.de
END:VEVENT
END:VCALENDAR