BEGIN:VCALENDAR
VERSION:2.0
PRODID:-//Serious Play Pro - ECPv6.15.20//NONSGML v1.0//EN
CALSCALE:GREGORIAN
METHOD:PUBLISH
X-WR-CALNAME:Serious Play Pro
X-ORIGINAL-URL:https://seriousplaypro.com
X-WR-CALDESC:Events for Serious Play Pro
REFRESH-INTERVAL;VALUE=DURATION:PT1H
X-Robots-Tag:noindex
X-PUBLISHED-TTL:PT1H
BEGIN:VTIMEZONE
TZID:Europe/Tallinn
BEGIN:DAYLIGHT
TZOFFSETFROM:+0200
TZOFFSETTO:+0300
TZNAME:EEST
DTSTART:20190331T010000
END:DAYLIGHT
BEGIN:STANDARD
TZOFFSETFROM:+0300
TZOFFSETTO:+0200
TZNAME:EET
DTSTART:20191027T010000
END:STANDARD
BEGIN:DAYLIGHT
TZOFFSETFROM:+0200
TZOFFSETTO:+0300
TZNAME:EEST
DTSTART:20200329T010000
END:DAYLIGHT
BEGIN:STANDARD
TZOFFSETFROM:+0300
TZOFFSETTO:+0200
TZNAME:EET
DTSTART:20201025T010000
END:STANDARD
BEGIN:DAYLIGHT
TZOFFSETFROM:+0200
TZOFFSETTO:+0300
TZNAME:EEST
DTSTART:20210328T010000
END:DAYLIGHT
BEGIN:STANDARD
TZOFFSETFROM:+0300
TZOFFSETTO:+0200
TZNAME:EET
DTSTART:20211031T010000
END:STANDARD
END:VTIMEZONE
BEGIN:VEVENT
DTSTART;VALUE=DATE:20200928
DTEND;VALUE=DATE:20201002
DTSTAMP:20260419T172644
CREATED:20200904T130814Z
LAST-MODIFIED:20200904T131836Z
UID:15957-1601251200-1601596799@seriousplaypro.com
SUMMARY:YOU CAN STILL MAKE IT! The International LEGO® SERIOUS PLAY® Conference & Advanced Trainings are just around the corner!
DESCRIPTION:The International LEGO® SERIOUS PLAY® (LSP) Conference & Advanced Trainings is an annual event which this year takes place online. \nThis year’s conference is hosted by Inthrface\, and it is supported by Imagination Lab Foundation. The conference presents a program packed with interesting new inspiration\, knowledge\, research\, networking opportunities and best practice sharing. \nIn addition to the conference\, Inthrface offers two additional advanced online trainings. Real Time Change® – Crisis and Real Time Change® – Readiness. \n  \nDr. Johan Roos. Conference Chair Co-inventor and co-author of the original LEGO® SERIOUS PLAY®  method:\nOn behalf of Inthrface\, Hotel LEGOLAND® and the growing community of facilitators who benefit from this method\, I am proud to chair the 4th international LEGO® SERIOUS PLAY® conference – this time online. \nThe program is packed with inspiration\, insights and skill-building as well as networking opportunities to help you create even more value from this unique method and the growing community of experienced practitioners. \nA new innovative way – an online hybrid format \nWe combine the interaction and co-creation from F2F activities with online tools – and hence creating a virtual development space. \n  \nConference program – day 1\n29 September 2020\n08.30 – 09.00 (CET):  Online check-in to conference \n09.00 – 09.30 (CET):   Setting the stage – Johan Roos & Micael Buckle \n09.30 – 11.00 (CET):   Overcoming psychological barriers to change – Samineh Shahem \n11.00 – 12.00 (CET):   Using LEGO® SERIOUS PLAY® to overcome barriers to change – Micael Buckle & Samineh Shahem \n12.00 – 13.00 (CET):   Lunch & online networking – All \n13.00 – 16.00 (CET):   Changing the bigger picture: New LEGO® SERIOUS PLAY® application for larger groups – Micael Buckle \n16.00 – 16.45 (CET):   What’s up with LEGO® SERIOUS PLAY®? – Johan Roos \n16.45 – 17.00 (CET):   Closure of day 1 – Johan Roos & Micael Buckle \n  \nConference program – day 2\n30 September 2020\n08.30 – 09.00 (CET):   Online check-in to day 2 \n09.00 – 09.45 (CET):   Practicing LEGO® SERIOUS PLAY® with confidence – Micael Buckle & experienced participants \n09.45 – 11.15 (CET):   Designing to connect with clients – Deepa Prahalad \n11.15 – 13.45 (CET):   Succeeding with LEGO® SERIOUS PLAY® in education\, consulting\, or corporations – Experienced participants in three parallel streams – Working lunch \n13.45 – 14.15 (CET):   What’s up in LEGO® Group? – TBD \n14.15 – 15.00 (CET):   Playing with change – recap\, exercise and next steps – Johan Roos & Micael Buckle \n  \nRead about our speakers\, advanced trainings\, prices\, etc. in our brochure:  ONLINE – LSP conference and advanced trainings \nIf you have any questions or want to participate in the LSP event of the year – then send an email to: crp@inthrface.com or use the contact form below. \n[contact-form][contact-field label=”Name” type=”name”  required=”true” /][contact-field label=”Email” type=”email” required=”true” /][contact-field label=”Website” type=”url” /][contact-field label=”Message” type=”textarea” /][/contact-form]
URL:https://seriousplaypro.com/event/you-can-still-make-it-the-international-lego-serious-play-conference-advanced-trainings-are-just-around-the-corner/
LOCATION:Online
ATTACH;FMTTYPE=image/jpeg:https://seriousplaypro.com/wp-content/uploads/2020/09/Slide1.jpg
ORGANIZER;CN="Inthrface ApS":MAILTO:cfp@inthrface.com
END:VEVENT
END:VCALENDAR